BEGIN:VCALENDAR
VERSION:2.0
PRODID:LFV Website-Kit
METHOD:PUBLISH
BEGIN:VEVENT
UID:lfv-596a7e81-f31b-4c83-8db5-abefce11a0ba
LOCATION:
SUMMARY:Vertreterversammlung Bay. Gmain
DESCRIPTION:mit Wahlen Vorsitzender\n\nTermin Link: https://bfv-mfr.de/termine/vertreterversammlung-bay-gmain/
URL:https://bfv-mfr.de/termine/vertreterversammlung-bay-gmain/
CLASS:PRIVATE
DTSTART;TZID=Europe/Berlin:20261121T000000
DTEND;TZID=Europe/Berlin:20261121T010000
DTSTAMP:20260421T085859Z
END:VEVENT
END:VCALENDAR