BEGIN:VCALENDAR
VERSION:2.0
PRODID:LFV Website-Kit
METHOD:PUBLISH
BEGIN:VEVENT
UID:lfv-c839de57-5bb3-4f26-8973-dcbd1280e097
LOCATION:
SUMMARY:Tagung des Fachbereichs 13 - PSNV/Seelsorge
DESCRIPTION:Termin Link: https://bfv-mfr.de/termine/tagung-des-fachbereichs-13-psnvseelsorge-2/
URL:https://bfv-mfr.de/termine/tagung-des-fachbereichs-13-psnvseelsorge-2/
CLASS:PRIVATE
DTSTART;TZID=Europe/Berlin:20260929T000000
DTEND;TZID=Europe/Berlin:20260929T010000
DTSTAMP:20260421T090247Z
END:VEVENT
END:VCALENDAR