BEGIN:VCALENDAR
VERSION:2.0
PRODID:LFV Website-Kit
METHOD:PUBLISH
BEGIN:VEVENT
UID:lfv-cfb526ea-399e-4fb2-8010-9a5a4570859d
LOCATION:
SUMMARY:Online-Fortbildungen des Deutschen Feuerwehrverbandes
DESCRIPTION:„Rückfall-Kommunikation – Eigene Anforderungen erkennen, Lösungen gestalten“ (Christoph Steger, Kreisbrandmeister Fachbereich Katastrophenschutz des Landkreises Schweinfurt)\n\nTermin Link: https://bfv-mfr.de/termine/online-fortbildungen-des-deutschen-feuerwehrverbandes-3/
URL:https://bfv-mfr.de/termine/online-fortbildungen-des-deutschen-feuerwehrverbandes-3/
CLASS:PRIVATE
DTSTART;TZID=Europe/Berlin:20260610T180000
DTEND;TZID=Europe/Berlin:20260610T190000
DTSTAMP:20260421T085447Z
END:VEVENT
END:VCALENDAR