BEGIN:VCALENDAR
VERSION:2.0
PRODID:LFV Website-Kit
METHOD:PUBLISH
BEGIN:VEVENT
UID:lfv-965702dc-d017-4771-aabb-25827b82181d
LOCATION:
SUMMARY:Online-Fortbildungen des Deutschen Feuerwehrverbandes
DESCRIPTION:Vorstellung und ergänzende Hintergrundinformationen zur Fachempfehlung „Ausschreibung und Beschaffung von Feuerwehrfahrzeugen“ (Günther Pinkenburg, Rechtsanwalt, und Jörg Fiebach, Leitender Branddirektor)\n\nTermin Link: https://bfv-mfr.de/termine/online-fortbildungen-des-deutschen-feuerwehrverbandes-2/
URL:https://bfv-mfr.de/termine/online-fortbildungen-des-deutschen-feuerwehrverbandes-2/
CLASS:PRIVATE
DTSTART;TZID=Europe/Berlin:20260520T180000
DTEND;TZID=Europe/Berlin:20260520T190000
DTSTAMP:20260421T090415Z
END:VEVENT
END:VCALENDAR