BEGIN:VCALENDAR
VERSION:2.0
PRODID:LFV Website-Kit
METHOD:PUBLISH
BEGIN:VEVENT
UID:lfv-d30f8772-ebb7-4691-967a-7aecad0f9b8d
LOCATION:
SUMMARY:Landes-Jugendfeuerwehrtag
DESCRIPTION:Termin Link: https://bfv-mfr.de/termine/landes-jugendfeuerwehrtag/
URL:https://bfv-mfr.de/termine/landes-jugendfeuerwehrtag/
CLASS:PRIVATE
DTSTART;VALUE=DATE:20260612
DTEND;VALUE=DATE:20260615
DTSTAMP:20260421T085447Z
END:VEVENT
END:VCALENDAR