BEGIN:VCALENDAR
VERSION:2.0
PRODID:LFV Website-Kit
METHOD:PUBLISH
BEGIN:VEVENT
UID:lfv-437b3096-7ca2-48fa-a489-c9e1285829dc
LOCATION:
SUMMARY:KUVB-Seminar
DESCRIPTION:Termin Link: https://bfv-mfr.de/termine/kuvb-seminar-1/
URL:https://bfv-mfr.de/termine/kuvb-seminar-1/
CLASS:PRIVATE
DTSTART;VALUE=DATE:20261020
DTEND;VALUE=DATE:20261022
DTSTAMP:20260421T102808Z
END:VEVENT
END:VCALENDAR